BEGIN:VCALENDAR
VERSION:2.0
PRODID:-//Fundación Salud - ECPv5.6.0//NONSGML v1.0//EN
CALSCALE:GREGORIAN
METHOD:PUBLISH
X-WR-CALNAME:Fundación Salud
X-ORIGINAL-URL:https://www.fundacionsalud.org.ar
X-WR-CALDESC:Eventos para Fundación Salud
BEGIN:VTIMEZONE
TZID:UTC
BEGIN:STANDARD
TZOFFSETFROM:+0000
TZOFFSETTO:+0000
TZNAME:UTC
DTSTART:20200101T000000
END:STANDARD
END:VTIMEZONE
BEGIN:VEVENT
DTSTART;TZID=UTC:20200526T143000
DTEND;TZID=UTC:20200526T163000
DTSTAMP:20260423T042136
CREATED:20170907T214039Z
LAST-MODIFIED:20200513T021828Z
UID:7632-1590503400-1590510600@www.fundacionsalud.org.ar
SUMMARY:Herramientas para Sanar
DESCRIPTION:Objetivo: «Aplicar las Herramientas que nos provee la Inteligencia Emocional y Espiritual Sanar\, potenciando el desarrollo del observador interior para lograr los cambios que colaboren  con la recuperación de la salud integral.»
URL:https://www.fundacionsalud.org.ar/calendario_de_eventos/herramientas-para-sanar-2-6-2-3-2-2-2-2-2-5/
END:VEVENT
END:VCALENDAR