BEGIN:VCALENDAR
VERSION:2.0
PRODID:-//Fundación Salud - ECPv5.6.0//NONSGML v1.0//EN
CALSCALE:GREGORIAN
METHOD:PUBLISH
X-WR-CALNAME:Fundación Salud
X-ORIGINAL-URL:https://www.fundacionsalud.org.ar
X-WR-CALDESC:Eventos para Fundación Salud
BEGIN:VTIMEZONE
TZID:UTC
BEGIN:STANDARD
TZOFFSETFROM:+0000
TZOFFSETTO:+0000
TZNAME:UTC
DTSTART:20200101T000000
END:STANDARD
END:VTIMEZONE
BEGIN:VEVENT
DTSTART;TZID=UTC:20200709T160000
DTEND;TZID=UTC:20200709T180000
DTSTAMP:20260421T053221
CREATED:20170703T155827Z
LAST-MODIFIED:20200623T190108Z
UID:3846-1594310400-1594317600@www.fundacionsalud.org.ar
SUMMARY:Taller INTENSIVO: "Inmunonutrición" (1ra parte)
DESCRIPTION:Objetivo: Diferenciar los grupos de alimentos que a través de la alimentación\, nos brindan los nutrientes necesarios para que produzca una adecuada nutrición. \nConocer la diferencia entre alimento\, alimentación\, nutrición y nutriente. Aportar herramientas útiles para lograr una alimentación equilibrada.
URL:https://www.fundacionsalud.org.ar/calendario_de_eventos/inmunonutricion-4-3/
END:VEVENT
END:VCALENDAR