BEGIN:VCALENDAR
VERSION:2.0
PRODID:-//Fundación Salud - ECPv5.6.0//NONSGML v1.0//EN
CALSCALE:GREGORIAN
METHOD:PUBLISH
X-WR-CALNAME:Fundación Salud
X-ORIGINAL-URL:https://www.fundacionsalud.org.ar
X-WR-CALDESC:Eventos para Fundación Salud
BEGIN:VTIMEZONE
TZID:UTC
BEGIN:STANDARD
TZOFFSETFROM:+0000
TZOFFSETTO:+0000
TZNAME:UTC
DTSTART:20180101T000000
END:STANDARD
END:VTIMEZONE
BEGIN:VEVENT
DTSTART;TZID=UTC:20181031T133000
DTEND;TZID=UTC:20181031T163000
DTSTAMP:20260423T022212
CREATED:20170907T204139Z
LAST-MODIFIED:20180906T152149Z
UID:5366-1540992600-1541003400@www.fundacionsalud.org.ar
SUMMARY:Stella Maris: Medicina Cuerpo-Mente I
DESCRIPTION:Nivel I: «Autogestión y Desarrollo de la Inteligencia Emocional y Espiritual.» \nHorario: de 13.30 a 16:30 hs. \nAprender a lograr y mantener el estado de equilibrio físico\, psíquico\, emocional y espiritual incrementando la cantidad y optimizando la calidad de defensas del sistema inmunológico. Aumentar el potencial individual y disminuir los niveles de estrés mediante la práctica de actividades que lleven al cuerpo y la mente a estados de relajación.
URL:https://www.fundacionsalud.org.ar/calendario_de_eventos/taller-de-medicina-cuerpo-mente-i-4-2-2-6-2-3-2-3-2-2-2-2-2-3-2-3-5-2-2-2-2-2/
END:VEVENT
END:VCALENDAR